BEGIN:VCALENDAR
VERSION:2.0
PRODID:-//Reformed Theological Seminary - ECPv4.9.4//NONSGML v1.0//EN
CALSCALE:GREGORIAN
METHOD:PUBLISH
X-WR-CALNAME:Reformed Theological Seminary
X-ORIGINAL-URL:https://rts.edu
X-WR-CALDESC:Events for Reformed Theological Seminary
BEGIN:VTIMEZONE
TZID:"America/New_York"
BEGIN:DAYLIGHT
TZOFFSETFROM:-0500
TZOFFSETTO:-0400
TZNAME:EDT
DTSTART:20200308T070000
END:DAYLIGHT
BEGIN:STANDARD
TZOFFSETFROM:-0400
TZOFFSETTO:-0500
TZNAME:EST
DTSTART:20201101T060000
END:STANDARD
END:VTIMEZONE
BEGIN:VEVENT
DTSTART;TZID="America/New_York":20200917T190000
DTEND;TZID="America/New_York":20200917T200000
DTSTAMP:20260421T122548
CREATED:20200821T164136Z
LAST-MODIFIED:20200821T164136Z
UID:36647-1600369200-1600372800@rts.edu
SUMMARY:NYC Faculty Panel Discussion
DESCRIPTION:Topic: Justice in Reformed Theology \n
URL:https://rts.edu/calendar/nyc-faculty-panel-discussion/
CATEGORIES:New York City
END:VEVENT
END:VCALENDAR