BEGIN:VCALENDAR
VERSION:2.0
PRODID:-//Reformed Theological Seminary - ECPv4.9.4//NONSGML v1.0//EN
CALSCALE:GREGORIAN
METHOD:PUBLISH
X-WR-CALNAME:Reformed Theological Seminary
X-ORIGINAL-URL:https://rts.edu
X-WR-CALDESC:Events for Reformed Theological Seminary
BEGIN:VTIMEZONE
TZID:"America/Chicago"
BEGIN:DAYLIGHT
TZOFFSETFROM:-0600
TZOFFSETTO:-0500
TZNAME:CDT
DTSTART:20200308T080000
END:DAYLIGHT
BEGIN:STANDARD
TZOFFSETFROM:-0500
TZOFFSETTO:-0600
TZNAME:CST
DTSTART:20201101T070000
END:STANDARD
END:VTIMEZONE
BEGIN:VEVENT
DTSTART;VALUE=DATE:20200124
DTEND;VALUE=DATE:20200125
DTSTAMP:20260423T004803
CREATED:20190225T234921Z
LAST-MODIFIED:20190725T183453Z
UID:21972-1579824000-1579910399@rts.edu
SUMMARY:2020 Winter Session Ends
DESCRIPTION:
URL:https://rts.edu/calendar/2020-winter-session-ends/
CATEGORIES:Dallas,Jackson
END:VEVENT
END:VCALENDAR